BEGIN:VCALENDAR
VERSION:2.0
PRODID:-//Gimnasio del Norte | Colegios Redcol - ECPv6.15.17.1//NONSGML v1.0//EN
CALSCALE:GREGORIAN
METHOD:PUBLISH
X-WR-CALNAME:Gimnasio del Norte | Colegios Redcol
X-ORIGINAL-URL:https://gimnorte.edu.co/es/
X-WR-CALDESC:Eventos para Gimnasio del Norte | Colegios Redcol
REFRESH-INTERVAL;VALUE=DURATION:PT1H
X-Robots-Tag:noindex
X-PUBLISHED-TTL:PT1H
BEGIN:VTIMEZONE
TZID:America/Bogota
BEGIN:STANDARD
TZOFFSETFROM:-0500
TZOFFSETTO:-0500
TZNAME:-05
DTSTART:20250101T000000
END:STANDARD
END:VTIMEZONE
BEGIN:VEVENT
DTSTART;VALUE=DATE:20260324
DTEND;VALUE=DATE:20260325
DTSTAMP:20260421T154109
CREATED:20251020T145342Z
LAST-MODIFIED:20260114T214733Z
UID:134141-1774310400-1774396799@gimnorte.edu.co
SUMMARY:Inicio III Trimestre
DESCRIPTION:
URL:https://gimnorte.edu.co/es/event/inicio-iii-trimestre/
LOCATION:Gimnasio del Norte\, Km 1 Vía al Rincón Valledupar\, Cesar.\, Cesar\, Colombia
END:VEVENT
BEGIN:VEVENT
DTSTART;VALUE=DATE:20260620
DTEND;VALUE=DATE:20260621
DTSTAMP:20260421T154109
CREATED:20251020T150257Z
LAST-MODIFIED:20260415T201843Z
UID:134145-1781913600-1781999999@gimnorte.edu.co
SUMMARY:Family Day
DESCRIPTION:
URL:https://gimnorte.edu.co/es/event/family-day-2/
LOCATION:Gimnasio del Norte\, Km 1 Vía al Rincón Valledupar\, Cesar.\, Cesar\, Colombia
END:VEVENT
BEGIN:VEVENT
DTSTART;VALUE=DATE:20260613
DTEND;VALUE=DATE:20260614
DTSTAMP:20260421T154109
CREATED:20251020T151421Z
LAST-MODIFIED:20260416T150244Z
UID:134148-1781308800-1781395199@gimnorte.edu.co
SUMMARY:PBL Kinder
DESCRIPTION:
URL:https://gimnorte.edu.co/es/event/pbl-kinder/
LOCATION:Gimnasio del Norte\, Km 1 Vía al Rincón Valledupar\, Cesar.\, Cesar\, Colombia
END:VEVENT
END:VCALENDAR