BEGIN:VCALENDAR
VERSION:2.0
PRODID:-//Gimnasio del Norte | Colegios Redcol - ECPv6.15.17.1//NONSGML v1.0//EN
CALSCALE:GREGORIAN
METHOD:PUBLISH
X-ORIGINAL-URL:https://gimnorte.edu.co/es/
X-WR-CALDESC:Eventos para Gimnasio del Norte | Colegios Redcol
REFRESH-INTERVAL;VALUE=DURATION:PT1H
X-Robots-Tag:noindex
X-PUBLISHED-TTL:PT1H
BEGIN:VTIMEZONE
TZID:America/Bogota
BEGIN:STANDARD
TZOFFSETFROM:-0500
TZOFFSETTO:-0500
TZNAME:-05
DTSTART:20250101T000000
END:STANDARD
END:VTIMEZONE
BEGIN:VEVENT
DTSTART;VALUE=DATE:20260302
DTEND;VALUE=DATE:20260308
DTSTAMP:20260423T051543
CREATED:20260206T005257Z
LAST-MODIFIED:20260206T005257Z
UID:134442-1772409600-1772927999@gimnorte.edu.co
SUMMARY:Exámenes Trimestrales
DESCRIPTION:
URL:https://gimnorte.edu.co/es/event/examenes-trimestrales/
LOCATION:Gimnasio del Norte\, Km 1 Vía al Rincón Valledupar\, Cesar.\, Cesar\, Colombia
END:VEVENT
BEGIN:VEVENT
DTSTART;VALUE=DATE:20260306
DTEND;VALUE=DATE:20260307
DTSTAMP:20260423T051543
CREATED:20250911T124248Z
LAST-MODIFIED:20260206T010405Z
UID:133865-1772755200-1772841599@gimnorte.edu.co
SUMMARY:Día de las matemáticas: Olimpiadas matemáticas
DESCRIPTION:
URL:https://gimnorte.edu.co/es/event/dia-de-las-matematicas-olimpiadas-matematicas-2/
LOCATION:Gimnasio del Norte\, Km 1 Vía al Rincón Valledupar\, Cesar.\, Cesar\, Colombia
END:VEVENT
BEGIN:VEVENT
DTSTART;VALUE=DATE:20260309
DTEND;VALUE=DATE:20260310
DTSTAMP:20260423T051543
CREATED:20260206T005324Z
LAST-MODIFIED:20260206T005324Z
UID:134444-1773014400-1773100799@gimnorte.edu.co
SUMMARY:Exámenes Trimestrales
DESCRIPTION:
URL:https://gimnorte.edu.co/es/event/examenes-trimestrales-2/
LOCATION:Gimnasio del Norte\, Km 1 Vía al Rincón Valledupar\, Cesar.\, Cesar\, Colombia
END:VEVENT
BEGIN:VEVENT
DTSTART;VALUE=DATE:20260310
DTEND;VALUE=DATE:20260311
DTSTAMP:20260423T051543
CREATED:20250911T124121Z
LAST-MODIFIED:20260206T023842Z
UID:133863-1773100800-1773187199@gimnorte.edu.co
SUMMARY:Celebración Día de La Mujer
DESCRIPTION:
URL:https://gimnorte.edu.co/es/event/celebracion-dia-de-la-mujer-2/
LOCATION:Gimnasio del Norte\, Km 1 Vía al Rincón Valledupar\, Cesar.\, Cesar\, Colombia
END:VEVENT
BEGIN:VEVENT
DTSTART;VALUE=DATE:20260311
DTEND;VALUE=DATE:20260314
DTSTAMP:20260423T051543
CREATED:20260206T005559Z
LAST-MODIFIED:20260206T023652Z
UID:134446-1773187200-1773446399@gimnorte.edu.co
SUMMARY:Recuperaciones
DESCRIPTION:
URL:https://gimnorte.edu.co/es/event/recuperaciones-5/
LOCATION:Gimnasio del Norte\, Km 1 Vía al Rincón Valledupar\, Cesar.\, Cesar\, Colombia
END:VEVENT
BEGIN:VEVENT
DTSTART;VALUE=DATE:20260313
DTEND;VALUE=DATE:20260314
DTSTAMP:20260423T051543
CREATED:20260206T010502Z
LAST-MODIFIED:20260206T010502Z
UID:134454-1773360000-1773446399@gimnorte.edu.co
SUMMARY:Bendición Cartucheras (12th)
DESCRIPTION:
URL:https://gimnorte.edu.co/es/event/bendicion-cartucheras-12th/
LOCATION:Gimnasio del Norte\, Km 1 Vía al Rincón Valledupar\, Cesar.\, Cesar\, Colombia
END:VEVENT
BEGIN:VEVENT
DTSTART;VALUE=DATE:20260315
DTEND;VALUE=DATE:20260316
DTSTAMP:20260423T051543
CREATED:20260114T212728Z
LAST-MODIFIED:20260114T212728Z
UID:134359-1773532800-1773619199@gimnorte.edu.co
SUMMARY:ICFES (Pruebas Saber)
DESCRIPTION:
URL:https://gimnorte.edu.co/es/event/icfes-pruebas-saber/
END:VEVENT
BEGIN:VEVENT
DTSTART;VALUE=DATE:20260316
DTEND;VALUE=DATE:20260317
DTSTAMP:20260423T051543
CREATED:20260206T005634Z
LAST-MODIFIED:20260206T005634Z
UID:134448-1773619200-1773705599@gimnorte.edu.co
SUMMARY:Recuperaciones
DESCRIPTION:
URL:https://gimnorte.edu.co/es/event/recuperaciones-7/
LOCATION:Gimnasio del Norte\, Km 1 Vía al Rincón Valledupar\, Cesar.\, Cesar\, Colombia
END:VEVENT
BEGIN:VEVENT
DTSTART;VALUE=DATE:20260317
DTEND;VALUE=DATE:20260318
DTSTAMP:20260423T051543
CREATED:20250907T182618Z
LAST-MODIFIED:20260206T024023Z
UID:133715-1773705600-1773791999@gimnorte.edu.co
SUMMARY:St. Patricks Day
DESCRIPTION:
URL:https://gimnorte.edu.co/es/event/st-patricks-day-2/
LOCATION:Gimnasio del Norte\, Km 1 Vía al Rincón Valledupar\, Cesar.\, Cesar\, Colombia
END:VEVENT
BEGIN:VEVENT
DTSTART;VALUE=DATE:20260319
DTEND;VALUE=DATE:20260320
DTSTAMP:20260423T051543
CREATED:20250911T124512Z
LAST-MODIFIED:20260206T024201Z
UID:133871-1773878400-1773964799@gimnorte.edu.co
SUMMARY:Celebración Día del Hombre
DESCRIPTION:
URL:https://gimnorte.edu.co/es/event/celebracion-dia-del-hombre-2/
LOCATION:Gimnasio del Norte\, Km 1 Vía al Rincón Valledupar\, Cesar.\, Cesar\, Colombia
END:VEVENT
BEGIN:VEVENT
DTSTART;VALUE=DATE:20260320
DTEND;VALUE=DATE:20260321
DTSTAMP:20260423T051543
CREATED:20250911T124630Z
LAST-MODIFIED:20260206T024100Z
UID:133874-1773964800-1774051199@gimnorte.edu.co
SUMMARY:Día de la Francofonía
DESCRIPTION:
URL:https://gimnorte.edu.co/es/event/dia-de-la-francofonia-3/
LOCATION:Gimnasio del Norte\, Km 1 Vía al Rincón Valledupar\, Cesar.\, Cesar\, Colombia
END:VEVENT
BEGIN:VEVENT
DTSTART;VALUE=DATE:20260320
DTEND;VALUE=DATE:20260321
DTSTAMP:20260423T051543
CREATED:20260114T212634Z
LAST-MODIFIED:20260114T212634Z
UID:134357-1773964800-1774051199@gimnorte.edu.co
SUMMARY:Fin del II Trimestre
DESCRIPTION:
URL:https://gimnorte.edu.co/es/event/fin-del-ii-trimestre/
LOCATION:Gimnasio del Norte\, Km 1 Vía al Rincón Valledupar\, Cesar.\, Cesar\, Colombia
END:VEVENT
BEGIN:VEVENT
DTSTART;TZID=America/Bogota:20260322T080000
DTEND;TZID=America/Bogota:20260322T170000
DTSTAMP:20260423T051543
CREATED:20250911T124736Z
LAST-MODIFIED:20250911T124736Z
UID:133877-1774166400-1774198800@gimnorte.edu.co
SUMMARY:Día Mundial del Agua.
DESCRIPTION:
URL:https://gimnorte.edu.co/es/event/dia-mundial-del-agua-2/
LOCATION:Gimnasio del Norte\, Km 1 Vía al Rincón Valledupar\, Cesar.\, Cesar\, Colombia
END:VEVENT
BEGIN:VEVENT
DTSTART;VALUE=DATE:20260323
DTEND;VALUE=DATE:20260324
DTSTAMP:20260423T051543
CREATED:20260114T212453Z
LAST-MODIFIED:20260120T211422Z
UID:134354-1774224000-1774310399@gimnorte.edu.co
SUMMARY:FESTIVO
DESCRIPTION:
URL:https://gimnorte.edu.co/es/event/festivo-12/
END:VEVENT
BEGIN:VEVENT
DTSTART;VALUE=DATE:20260324
DTEND;VALUE=DATE:20260325
DTSTAMP:20260423T051543
CREATED:20251020T145342Z
LAST-MODIFIED:20260114T214733Z
UID:134141-1774310400-1774396799@gimnorte.edu.co
SUMMARY:Inicio III Trimestre
DESCRIPTION:
URL:https://gimnorte.edu.co/es/event/inicio-iii-trimestre/
LOCATION:Gimnasio del Norte\, Km 1 Vía al Rincón Valledupar\, Cesar.\, Cesar\, Colombia
END:VEVENT
BEGIN:VEVENT
DTSTART;VALUE=DATE:20260326
DTEND;VALUE=DATE:20260327
DTSTAMP:20260423T051543
CREATED:20260206T005922Z
LAST-MODIFIED:20260206T005922Z
UID:134450-1774483200-1774569599@gimnorte.edu.co
SUMMARY:Viacrucis / Festival del Dulce
DESCRIPTION:
URL:https://gimnorte.edu.co/es/event/viacrucis-festival-del-dulce/
LOCATION:Gimnasio del Norte\, Km 1 Vía al Rincón Valledupar\, Cesar.\, Cesar\, Colombia
END:VEVENT
BEGIN:VEVENT
DTSTART;VALUE=DATE:20260327
DTEND;VALUE=DATE:20260328
DTSTAMP:20260423T051543
CREATED:20260206T010047Z
LAST-MODIFIED:20260206T010047Z
UID:134452-1774569600-1774655999@gimnorte.edu.co
SUMMARY:Entrega de informes
DESCRIPTION:
URL:https://gimnorte.edu.co/es/event/entrega-de-informes/
LOCATION:Gimnasio del Norte\, Km 1 Vía al Rincón Valledupar\, Cesar.\, Cesar\, Colombia
END:VEVENT
BEGIN:VEVENT
DTSTART;VALUE=DATE:20260330
DTEND;VALUE=DATE:20260402
DTSTAMP:20260423T051543
CREATED:20250907T184029Z
LAST-MODIFIED:20250907T184029Z
UID:133727-1774828800-1775087999@gimnorte.edu.co
SUMMARY:Receso Escolar
DESCRIPTION:
URL:https://gimnorte.edu.co/es/event/receso-escolar-4/
LOCATION:Gimnasio del Norte\, Km 1 Vía al Rincón Valledupar\, Cesar.\, Cesar\, Colombia
END:VEVENT
END:VCALENDAR